BEGIN:VCALENDAR
VERSION:2.0
PRODID:-//Queer Trans and Allies in Biological Sciences (QTABS) - ECPv6.15.18//NONSGML v1.0//EN
CALSCALE:GREGORIAN
METHOD:PUBLISH
X-ORIGINAL-URL:https://qtabs.bio.uci.edu
X-WR-CALDESC:Events for Queer Trans and Allies in Biological Sciences (QTABS)
REFRESH-INTERVAL;VALUE=DURATION:PT1H
X-Robots-Tag:noindex
X-PUBLISHED-TTL:PT1H
BEGIN:VTIMEZONE
TZID:America/Los_Angeles
BEGIN:DAYLIGHT
TZOFFSETFROM:-0800
TZOFFSETTO:-0700
TZNAME:PDT
DTSTART:20200308T100000
END:DAYLIGHT
BEGIN:STANDARD
TZOFFSETFROM:-0700
TZOFFSETTO:-0800
TZNAME:PST
DTSTART:20201101T090000
END:STANDARD
BEGIN:DAYLIGHT
TZOFFSETFROM:-0800
TZOFFSETTO:-0700
TZNAME:PDT
DTSTART:20210314T100000
END:DAYLIGHT
BEGIN:STANDARD
TZOFFSETFROM:-0700
TZOFFSETTO:-0800
TZNAME:PST
DTSTART:20211107T090000
END:STANDARD
BEGIN:DAYLIGHT
TZOFFSETFROM:-0800
TZOFFSETTO:-0700
TZNAME:PDT
DTSTART:20220313T100000
END:DAYLIGHT
BEGIN:STANDARD
TZOFFSETFROM:-0700
TZOFFSETTO:-0800
TZNAME:PST
DTSTART:20221106T090000
END:STANDARD
BEGIN:DAYLIGHT
TZOFFSETFROM:-0800
TZOFFSETTO:-0700
TZNAME:PDT
DTSTART:20230312T100000
END:DAYLIGHT
BEGIN:STANDARD
TZOFFSETFROM:-0700
TZOFFSETTO:-0800
TZNAME:PST
DTSTART:20231105T090000
END:STANDARD
BEGIN:DAYLIGHT
TZOFFSETFROM:-0800
TZOFFSETTO:-0700
TZNAME:PDT
DTSTART:20240310T100000
END:DAYLIGHT
BEGIN:STANDARD
TZOFFSETFROM:-0700
TZOFFSETTO:-0800
TZNAME:PST
DTSTART:20241103T090000
END:STANDARD
END:VTIMEZONE
BEGIN:VEVENT
DTSTART;TZID=America/Los_Angeles:20231107T173000
DTEND;TZID=America/Los_Angeles:20231107T190000
DTSTAMP:20260421T030213
CREATED:20231107T190332Z
LAST-MODIFIED:20231107T190333Z
UID:442-1699378200-1699383600@qtabs.bio.uci.edu
SUMMARY:Discussing Transgender Day of Remembrance (11/7)
DESCRIPTION:Transgender Day of Remembrance is annually observed on November 20th. It is to commemorate transgender people who lost their lives in acts of anti-transgender violence. In recognition of this day\, QTABS will be hosting Natalie Moncada as a guest speaker to further discuss Transgender Day of Remembrance and issues affecting transgender students\, researchers\, and scientists in the biological and biomedical sciences. We invite you to join us on Tuesday\, November 7th in Biological Sciences 3\, Room 1120 at 5:30PM to help further our discussion\, understanding\, and remembrance of this special day. Pizza will be provided. And please\, feel free to join us remotely via Zoom using the link provided!
URL:https://qtabs.bio.uci.edu/event/discussing-transgender-day-of-remembrance-11-7/
CATEGORIES:Building Community,Roundtable Discussion
ATTACH;FMTTYPE=image/jpeg:https://qtabs.bio.uci.edu/wp-content/uploads/sites/52/2023/11/IMG_4447.jpg
END:VEVENT
BEGIN:VEVENT
DTSTART;TZID=America/Los_Angeles:20231024T173000
DTEND;TZID=America/Los_Angeles:20231024T190000
DTSTAMP:20260421T030213
CREATED:20231107T190133Z
LAST-MODIFIED:20231107T190134Z
UID:440-1698168600-1698174000@qtabs.bio.uci.edu
SUMMARY:Pumpkin Decorating Social (10/24)
DESCRIPTION:Queer Trans and Allies in Biological Sciences (QTABS) invites you to join us on Tuesday\, October 24 in Biological Sciences 3\, Room 1120 at 5:30PM as we continue to build connections across the LGBTQIA+ and allied community across UCI School of Biological Sciences and School of Medicine. Take a moment to unwind from research to socialize and mingle with QTABS as we paint and decorate pumpkins for the Autumn season. Light refreshments will be provided!
URL:https://qtabs.bio.uci.edu/event/pumpkin-decorating-social-10-24/
CATEGORIES:Building Community,Social Events
ATTACH;FMTTYPE=image/png:https://qtabs.bio.uci.edu/wp-content/uploads/sites/52/2023/10/IMG_4368.png
END:VEVENT
BEGIN:VEVENT
DTSTART;TZID=America/Los_Angeles:20231010T173000
DTEND;TZID=America/Los_Angeles:20231010T173000
DTSTAMP:20260421T030213
CREATED:20231005T201402Z
LAST-MODIFIED:20231005T201403Z
UID:423-1696959000-1696959000@qtabs.bio.uci.edu
SUMMARY:QTABS - Highlighting LGBT+ History Night (10/10)
DESCRIPTION:October is LGBT+ History Month! Queer Trans and Allies in Biological Sciences (QTABS) invites you to join us on Tuesday\, October 10 in Biological Sciences 3\, Room 1120 at 5:30PM as we highlight significant leaders in science who identify as LGBTQIA+. Come by to learn about the contributions of queer scientists to different research fields and how we can continue to support LGBTQIA+ researchers for future contributions. Light refreshments will be provided!
URL:https://qtabs.bio.uci.edu/event/qtabs-highlighting-lgbt-history-night-10-10/
ATTACH;FMTTYPE=image/png:https://qtabs.bio.uci.edu/wp-content/uploads/sites/52/2023/10/LGBTQIA-History-Month.png
END:VEVENT
BEGIN:VEVENT
DTSTART;TZID=America/Los_Angeles:20230926T173000
DTEND;TZID=America/Los_Angeles:20230926T190000
DTSTAMP:20260421T030213
CREATED:20230922T185252Z
LAST-MODIFIED:20230922T185253Z
UID:387-1695749400-1695754800@qtabs.bio.uci.edu
SUMMARY:Welcome + Pizza Night! Sept. 26 - 5:30PM @ BioSci Starbucks
DESCRIPTION:Our first QTABS event of the quarter will be a Welcome + Pizza Night located outside BioSci Starbucks on Tuesday\, September 26 at 5:30PM. Come around to meet and mingle with fellow LGBTQIA+ and allied researchers at UC Irvine over pizza\, snacks\, and light refreshments!
URL:https://qtabs.bio.uci.edu/event/welcome-pizza-night-sept-26-530pm-biosci-starbucks/
CATEGORIES:Building Community,Social Events
ATTACH;FMTTYPE=image/png:https://qtabs.bio.uci.edu/wp-content/uploads/sites/52/2023/09/Welcome-Pizza-Event_9.26.2023.png
END:VEVENT
BEGIN:VEVENT
DTSTART;TZID=America/Los_Angeles:20230609T110000
DTEND;TZID=America/Los_Angeles:20230609T170000
DTSTAMP:20260421T030213
CREATED:20230913T203048Z
LAST-MODIFIED:20230913T203049Z
UID:356-1686308400-1686330000@qtabs.bio.uci.edu
SUMMARY:2nd Annual QTABS Community Symposium June 9th
DESCRIPTION:Tomorrow\, June 9th\, we are hosting the second annual QTABS Community Symposium at the Herklotz Conference Center! The event will be from 11am-5pm. We will have a poster presentations along with lightning talks and hybrid keynote speakers (schedule of events and presenters attached).\n\nWe’ve been announcing our speakers on social media if you want to know more about them!\n\nAll are welcome to attend our community symposium. Lunch will be provided for those registered to attend\, and light refreshments for in-person attendees. QTABS Symposium Schedule of Events + Presenters
URL:https://qtabs.bio.uci.edu/event/2nd-annual-qtabs-community-symposium-june-9th/
CATEGORIES:Building Community,Community Symposium,Professional Development,Roundtable Discussion,Social Events
ATTACH;FMTTYPE=image/png:https://qtabs.bio.uci.edu/wp-content/uploads/sites/52/2023/09/Image-from-iOS-1-1.png
END:VEVENT
BEGIN:VEVENT
DTSTART;TZID=America/Los_Angeles:20230523T173000
DTEND;TZID=America/Los_Angeles:20230523T173000
DTSTAMP:20260421T030213
CREATED:20230913T203219Z
LAST-MODIFIED:20230913T203220Z
UID:360-1684863000-1684863000@qtabs.bio.uci.edu
SUMMARY:QTABS Science Presentation Workshop: Short Talks (5/23)
DESCRIPTION:We will be hosting a QTABS professional development workshop called: “Science Presentation Workshop: Short Talks” on Tuesday (5/23)\, at 5:30pm in Bio Sci III Room 2120 (snacks and drinks will be provided).\n\nJust in time for those who may be presenting at the QTABS Community Symposium\, or for those who want tips for future short/lightning talks! Topics include: framing the narrative\, keeping an audiences attention\, and presentation aesthetics.
URL:https://qtabs.bio.uci.edu/event/qtabs-science-presentation-workshop-short-talks-5-23/
CATEGORIES:Professional Development
ATTACH;FMTTYPE=image/png:https://qtabs.bio.uci.edu/wp-content/uploads/sites/52/2023/09/Image-from-iOS-1-2.png
END:VEVENT
BEGIN:VEVENT
DTSTART;TZID=America/Los_Angeles:20230508T110000
DTEND;TZID=America/Los_Angeles:20230508T170000
DTSTAMP:20260421T030213
CREATED:20230913T202740Z
LAST-MODIFIED:20230913T202742Z
UID:353-1683543600-1683565200@qtabs.bio.uci.edu
SUMMARY:QTABS Brunch in the Park ( Monday 5/8)
DESCRIPTION:We will be hosting a Brunch in the Park at Aldrich Park (under BC’s Cavern)  on Monday (5/8)\, from 11am-12:30pm. Come take a mid-quarter breather!\n\nWe will provide drinks and snacks as well as some blankets\, but feel free to bring your own as well. We will have a variety of food and drinks\, including some for our vegan and vegetarian folks!
URL:https://qtabs.bio.uci.edu/event/qtabs-brunch-in-the-park-monday-5-8/
CATEGORIES:Building Community,Social Events
ATTACH;FMTTYPE=image/png:https://qtabs.bio.uci.edu/wp-content/uploads/sites/52/2023/09/QTABS-Brunch-050823.png
END:VEVENT
BEGIN:VEVENT
DTSTART;TZID=America/Los_Angeles:20230425T173000
DTEND;TZID=America/Los_Angeles:20230425T173000
DTSTAMP:20260421T030213
CREATED:20230913T202611Z
LAST-MODIFIED:20230913T223757Z
UID:349-1682443800-1682443800@qtabs.bio.uci.edu
SUMMARY:QTABS Spill the Tea: Navigating the job search and hiring process as LGBTQIA+ in STEM
DESCRIPTION:We are going to meet Tuesday\, April 25th at 5:30pm in Bio Sci III Room 2120 to discuss tips and resources for navigating the job search and hiring process as LGBTQIA+ in STEM. Tea and snacks will be provided!
URL:https://qtabs.bio.uci.edu/event/qtabs-spill-the-tea-navigating-the-job-search-hiring-process-as-lgbtqia-in-stem/
CATEGORIES:Building Community,Professional Development
ATTACH;FMTTYPE=image/png:https://qtabs.bio.uci.edu/wp-content/uploads/sites/52/2023/09/Image-from-iOS-1.png
END:VEVENT
BEGIN:VEVENT
DTSTART;TZID=America/Los_Angeles:20230411T173000
DTEND;TZID=America/Los_Angeles:20230411T173000
DTSTAMP:20260421T030213
CREATED:20230913T202446Z
LAST-MODIFIED:20230913T202447Z
UID:346-1681234200-1681234200@qtabs.bio.uci.edu
SUMMARY:QTABS Paint Night - Tuesday (4/11)
DESCRIPTION:QTABS will be hosting a Paint Night on Tuesday\, April 11th at 5:30 pm Bio Sci III Room 2120. Join us for snacks\, drinks\, and painting along with Bob Ross!\n\nSmall canvas\, paint\, and brushes will be provided to paint “Daisies at Dawn“.
URL:https://qtabs.bio.uci.edu/event/qtabs-paint-night-tuesday-4-11/
CATEGORIES:Building Community,Social Events
ATTACH;FMTTYPE=image/png:https://qtabs.bio.uci.edu/wp-content/uploads/sites/52/2023/09/png_20230406_144549_0000.png
END:VEVENT
BEGIN:VEVENT
DTSTART;TZID=America/Los_Angeles:20230321T173000
DTEND;TZID=America/Los_Angeles:20230321T173000
DTSTAMP:20260421T030213
CREATED:20230913T202119Z
LAST-MODIFIED:20230913T202217Z
UID:343-1679419800-1679419800@qtabs.bio.uci.edu
SUMMARY:QTABS Book Club: "The Autobiography of a Transgender Scientist"
DESCRIPTION:The QTABS Winter Book Club will be hosting a discussion on “The Autobiography of a Transgender Scientist” by Dr. Ben Barres tomorrow\, March 21st at 5:30 pm Bio Sci III Room 2120. Even if you haven’t read it by tomorrow\, feel free to join and learn about the life and legacy of Dr. Ben Barres! Light drinks and snacks provided\n\nIf you have not picked up your book yet\, we will have the books available at the meeting.
URL:https://qtabs.bio.uci.edu/event/qtabs-book-club-the-autobiography-of-a-transgender-scientist/
CATEGORIES:Book Club,Building Community,Roundtable Discussion
ATTACH;FMTTYPE=image/png:https://qtabs.bio.uci.edu/wp-content/uploads/sites/52/2023/09/QTABS-book-club-01.png
END:VEVENT
BEGIN:VEVENT
DTSTART;TZID=America/Los_Angeles:20230310T140000
DTEND;TZID=America/Los_Angeles:20230310T170000
DTSTAMP:20260421T030213
CREATED:20230913T201852Z
LAST-MODIFIED:20230913T201853Z
UID:340-1678456800-1678467600@qtabs.bio.uci.edu
SUMMARY:QTABS Picnic in the Park (3/10)
DESCRIPTION:We will be hosting a Picnic in the Park at Aldrich Park on Friday (3/10)\, from 2-3pm. In case of rain\, we will meet in Nat Sci I Room 1202. Come take a breather before Week 10 and Finals Week.\n\nWe will provide drinks\, sandwiches\, and snacks as well as some blankets\, but feel free to bring your own as well. We will have a variety of food and drinks\, including some for our vegan and vegetarian folks!
URL:https://qtabs.bio.uci.edu/event/qtabs-picnic-in-the-park-3-10/
CATEGORIES:Building Community,Social Events
ATTACH;FMTTYPE=image/png:https://qtabs.bio.uci.edu/wp-content/uploads/sites/52/2023/09/IMG_0119.png
END:VEVENT
BEGIN:VEVENT
DTSTART;TZID=America/Los_Angeles:20230221T173000
DTEND;TZID=America/Los_Angeles:20230221T173000
DTSTAMP:20260421T030213
CREATED:20230913T201703Z
LAST-MODIFIED:20230913T201704Z
UID:337-1677000600-1677000600@qtabs.bio.uci.edu
SUMMARY:QTABS Personal Websites & Pastries (2/21)
DESCRIPTION:We will be hosting a QTABS professional development workshop called: “Personal Websites & Pastries” on Tuesday (2/21)\, at 5:30pm in Bio Sci III Room 2120 (pastries will be provided!).\n\nIf you plan on attending please fill out this Google Form so that we can cater the event to help you out the best! It is centered on creating personal websites that will help you promote yourself and showcase your work to your growing professional network (and potential future employers)!
URL:https://qtabs.bio.uci.edu/event/qtabs-personal-websites-pastries-2-21/
CATEGORIES:Professional Development
ATTACH;FMTTYPE=image/png:https://qtabs.bio.uci.edu/wp-content/uploads/sites/52/2023/09/QTABS-022123.png
END:VEVENT
BEGIN:VEVENT
DTSTART;TZID=America/Los_Angeles:20230207T173000
DTEND;TZID=America/Los_Angeles:20230207T173000
DTSTAMP:20260421T030213
CREATED:20230913T201351Z
LAST-MODIFIED:20230913T201352Z
UID:334-1675791000-1675791000@qtabs.bio.uci.edu
SUMMARY:QTABS Documentary Discussion (2/7)
DESCRIPTION:Hey everyone! \n\nTo commemorate National Black HIV/AIDS Awareness Day\, please join QTABS on Tuesday February 7th at 5:30pm in Bio Sci III Room 2120 as we discuss and reflect on select scenes from  “Endgame: AIDS in Black America” (2012). We will provide snacks along with coffee & tea!\n\nAlso\, we received the copies of “The Autobiography of a Transgender Scientist” By Ben Barres! If you signed up to receive a copy\, they’ll be available for pick-up on 2/7 at our meeting! We will be meeting on March 21st for our first ever book club discussion!
URL:https://qtabs.bio.uci.edu/event/qtabs-documentary-discussion-2-7/
CATEGORIES:Building Community,Roundtable Discussion
ATTACH;FMTTYPE=image/png:https://qtabs.bio.uci.edu/wp-content/uploads/sites/52/2023/09/IMG_9095.png
END:VEVENT
BEGIN:VEVENT
DTSTART;TZID=America/Los_Angeles:20230124T080000
DTEND;TZID=America/Los_Angeles:20230124T170000
DTSTAMP:20260421T030213
CREATED:20230913T201203Z
LAST-MODIFIED:20230913T201204Z
UID:331-1674547200-1674579600@qtabs.bio.uci.edu
SUMMARY:QTABS Game Nite (1/24)
DESCRIPTION:We will be hosting a QTABS Game Nite Tuesday (1/24)\, at 5:30pm in Bio Sci III Room 2120. We have a few board games but feel free to bring your own so we have more options to choose from!\n\nAlso\, Chipotle will be provided (with vegetarian & vegan options)!
URL:https://qtabs.bio.uci.edu/event/qtabs-game-nite-1-24/
CATEGORIES:Social Events
ATTACH;FMTTYPE=image/png:https://qtabs.bio.uci.edu/wp-content/uploads/sites/52/2023/09/QTABS-game-night-01.png
END:VEVENT
BEGIN:VEVENT
DTSTART;TZID=America/Los_Angeles:20221107T173000
DTEND;TZID=America/Los_Angeles:20221107T173000
DTSTAMP:20260421T030213
CREATED:20230913T200618Z
LAST-MODIFIED:20230913T200839Z
UID:327-1667842200-1667842200@qtabs.bio.uci.edu
SUMMARY:QTABS Spill the Tea: A discussion on the LGBTQ+ experience in STEM academia
DESCRIPTION:We are going to meet Monday\, November 7th at 5:30pm in Bio Sci III Room 2120 to discuss this 2021 article titled “Is there LGBTQ+ discrimination in STEM academia?” by Emily Warrender. This complements last Fall’s discussion on systemic inequalities for LGBTQ professionals in STEM.\n\nAll are welcome\, so even if you don’t have the chance to read the paper\, join us in the conversation anyways! Tea and snacks (including vegan options!) will be provided for attendees.
URL:https://qtabs.bio.uci.edu/event/qtabs-spill-the-tea-a-discussion-on-the-lgbtq-experience-in-stem-academia/
CATEGORIES:Journal Club,Professional Development,Roundtable Discussion
ATTACH;FMTTYPE=image/png:https://qtabs.bio.uci.edu/wp-content/uploads/sites/52/2023/09/IMG_5299.png
END:VEVENT
BEGIN:VEVENT
DTSTART;TZID=America/Los_Angeles:20221024T173000
DTEND;TZID=America/Los_Angeles:20221024T190000
DTSTAMP:20260421T030213
CREATED:20221017T195851Z
LAST-MODIFIED:20230913T195612Z
UID:211-1666632600-1666638000@qtabs.bio.uci.edu
SUMMARY:Halloween Party
DESCRIPTION:We are having our (second) Annual Pumpkin Decorating Social this Monday\, October 24th at 5:30pm in Bio Sci III Room 2120\, where we will be painting small pumpkins!\n\nCome hang out and enjoy some snacks and relax by painting some spooky pumpkins. Small pumpkins and painting supplies will be provided\, but you are also welcome to bring any other decorating or craft supplies!\n\n\nLastly we have some new E-board members who will be working with us as Assistant Directors this year! More news coming soon 😀
URL:https://qtabs.bio.uci.edu/event/halloween-party/
LOCATION:Biological Sciences III 2120\, Biological Sciences III\, Irvine\, CA\, 92617\, United States
CATEGORIES:Social Events
ATTACH;FMTTYPE=image/png:https://qtabs.bio.uci.edu/wp-content/uploads/sites/52/2022/10/IMG_4714.png
END:VEVENT
BEGIN:VEVENT
DTSTART;TZID=America/Los_Angeles:20221017T173000
DTEND;TZID=America/Los_Angeles:20221017T190000
DTSTAMP:20260421T030213
CREATED:20221017T195344Z
LAST-MODIFIED:20230913T195658Z
UID:205-1666027800-1666033200@qtabs.bio.uci.edu
SUMMARY:Game Night
DESCRIPTION:We will be hosting a game night MONDAY (10/17)\, at 5:30pm in Bio Sci III Room 2120/patio. We have a few board games (Trivial Pursuit & Telestrations) we can play but feel free to bring your own so we have more options to choose from!\n\nLight snacks and drinks will be provided!
URL:https://qtabs.bio.uci.edu/event/205/
LOCATION:Biological Sciences III 2120\, Biological Sciences III\, Irvine\, CA\, 92617\, United States
CATEGORIES:Social Events
ATTACH;FMTTYPE=image/png:https://qtabs.bio.uci.edu/wp-content/uploads/sites/52/2022/10/2022-10-17-QTABS-Game-Night-1.png
END:VEVENT
BEGIN:VEVENT
DTSTART;TZID=America/Los_Angeles:20220702T130000
DTEND;TZID=America/Los_Angeles:20220702T170000
DTSTAMP:20260421T030213
CREATED:20221017T200655Z
LAST-MODIFIED:20230913T195849Z
UID:214-1656766800-1656781200@qtabs.bio.uci.edu
SUMMARY:First Annual QTABS Community Symposium
DESCRIPTION:We are excited to announce the first annual QTABS Community Symposium at the Herklotz Conference Center! The event will be from 1-5pm on June 2nd. We will have a poster presentation competition (no abstract required to register – only a poster title) and a hybrid keynote speaker (TBA).\n\nRegister for the event at this link\, or through the flyer\, and feel free to share with others! All are welcome to attend our community symposium. Lunch will be provided for anyone presenting\, and light refreshments for in-person attendees.
URL:https://qtabs.bio.uci.edu/event/first-annual-qtabs-community-symposium/
LOCATION:Herklotz Conference Center\, 300 Quereshey Research Lab\, Irvine\, CA\, 92617\, United States
CATEGORIES:Building Community,Community Symposium,Professional Development,Social Events
ATTACH;FMTTYPE=image/jpeg:https://qtabs.bio.uci.edu/wp-content/uploads/sites/52/2022/10/sc-e1700581585261.jpeg
END:VEVENT
BEGIN:VEVENT
DTSTART;TZID=America/Los_Angeles:20220509T170000
DTEND;TZID=America/Los_Angeles:20220509T170000
DTSTAMP:20260421T030213
CREATED:20230913T195256Z
LAST-MODIFIED:20230913T200911Z
UID:319-1652115600-1652115600@qtabs.bio.uci.edu
SUMMARY:QTABS Community Space
DESCRIPTION:We will be hosting a Community Space meeting TODAY\, Monday\, May 9th at 5:00pm in Bio Sci III Room 1120/patio. We will be providing a safe space for our community to discuss current events and concerns that impact our community. Light snacks and drinks will be provided!
URL:https://qtabs.bio.uci.edu/event/qtabs-community-space/
CATEGORIES:Social Events
ATTACH;FMTTYPE=image/png:https://qtabs.bio.uci.edu/wp-content/uploads/sites/52/2023/09/050922-QTABS-Community-Space-Event.png
END:VEVENT
BEGIN:VEVENT
DTSTART;TZID=America/Los_Angeles:20220201T173000
DTEND;TZID=America/Los_Angeles:20220201T193000
DTSTAMP:20260421T030213
CREATED:20230913T194740Z
LAST-MODIFIED:20230913T195012Z
UID:315-1643736600-1643743800@qtabs.bio.uci.edu
SUMMARY:Coffee Chat Tuesday
DESCRIPTION:We are having our first Winter Coffee Chat this Tuesday\, February 1st at 5:30pm in Bio Sci III Room 1120 (and patio). Come decompress and socialize (or work\, that’s cool too!) while enjoying coffee\, tea\, and other drinks and snacks in our patio area!
URL:https://qtabs.bio.uci.edu/event/coffee-chat-tuesday/
CATEGORIES:Social Events
ATTACH;FMTTYPE=image/png:https://qtabs.bio.uci.edu/wp-content/uploads/sites/52/2023/09/Image-from-iOS.png
END:VEVENT
BEGIN:VEVENT
DTSTART;TZID=America/Los_Angeles:20211004T181500
DTEND;TZID=America/Los_Angeles:20211004T193000
DTSTAMP:20260421T030213
CREATED:20210929T200235Z
LAST-MODIFIED:20210929T203205Z
UID:143-1633371300-1633375800@qtabs.bio.uci.edu
SUMMARY:Writing Group
DESCRIPTION:
URL:https://qtabs.bio.uci.edu/event/writing-group/
LOCATION:Nat Sci I 1114 and 114 Patio
ATTACH;FMTTYPE=image/png:https://qtabs.bio.uci.edu/wp-content/uploads/sites/52/2021/09/QTABS-10-4-21-Meeting.png
END:VEVENT
BEGIN:VEVENT
DTSTART;TZID=America/Los_Angeles:20210927T180000
DTEND;TZID=America/Los_Angeles:20210927T190000
DTSTAMP:20260421T030213
CREATED:20210929T195959Z
LAST-MODIFIED:20210929T202849Z
UID:140-1632765600-1632769200@qtabs.bio.uci.edu
SUMMARY:Intro Meeting
DESCRIPTION:
URL:https://qtabs.bio.uci.edu/event/intro-meeting/
LOCATION:BioSci Starbucks
ATTACH;FMTTYPE=image/png:https://qtabs.bio.uci.edu/wp-content/uploads/sites/52/2021/09/QTABS-9-27-21-Meeting.png
END:VEVENT
END:VCALENDAR